BEGIN:VCALENDAR
VERSION:2.0
PRODID:-//Ortspartei SVP Lauperswil //NONSGML Events //EN
CALSCALE:GREGORIAN
X-WR-CALNAME:Ortspartei SVP Lauperswil
BEGIN:VEVENT
CREATED:20260422T080548Z
UID:1173
DTEND:20260503T000000
DTSTART:20260424T000000
DTSTAMP:20260424T134233Z
LOCATION:
DESCRIPTION:
SUMMARY:BEA
ORGANIZER:
URL;VALUE=URI:https://www.svp-lauperswil.ch/aktuell/termine/bea-3/
TRANSP:OPAQUE
END:VEVENT
END:VCALENDAR
