BEGIN:VCALENDAR
VERSION:2.0
PRODID:-//Ortspartei SVP Lauperswil //NONSGML Events //EN
CALSCALE:GREGORIAN
X-WR-CALNAME:Ortspartei SVP Lauperswil
BEGIN:VEVENT
CREATED:20251203T095645Z
UID:1114
DTEND:20260421T210000
DTSTART:20260421T200000
DTSTAMP:20260421T105821Z
LOCATION:
DESCRIPTION:
SUMMARY:Delegiertenversammlung SVP Kanton Bern
ORGANIZER:
URL;VALUE=URI:https://www.svp-lauperswil.ch/aktuell/termine/delegiertenversammlung-svp-kanton-bern-28/
TRANSP:OPAQUE
END:VEVENT
END:VCALENDAR
