BEGIN:VCALENDAR
VERSION:2.0
PRODID:-//Ortspartei SVP Lauperswil //NONSGML Events //EN
CALSCALE:GREGORIAN
X-WR-CALNAME:Ortspartei SVP Lauperswil
BEGIN:VEVENT
CREATED:20251203T100421Z
UID:1108
DTEND:20261017T000000
DTSTART:20261017T000000
DTSTAMP:20260421T121740Z
LOCATION:Fribourg
DESCRIPTION:
SUMMARY:Delegiertenversammlung SVP Schweiz
ORGANIZER:
URL;VALUE=URI:https://www.svp-lauperswil.ch/aktuell/termine/delegiertenversammlung-svp-schweiz-25/
TRANSP:OPAQUE
END:VEVENT
END:VCALENDAR
