BEGIN:VCALENDAR
VERSION:2.0
PRODID:-//Ortspartei SVP Lauperswil //NONSGML Events //EN
CALSCALE:GREGORIAN
X-WR-CALNAME:Ortspartei SVP Lauperswil
BEGIN:VEVENT
CREATED:20251203T101140Z
UID:1106
DTEND:20260614T000000
DTSTART:20260614T000000
DTSTAMP:20260421T123150Z
LOCATION:
DESCRIPTION:
SUMMARY:Abstimmungssonntag
ORGANIZER:
URL;VALUE=URI:https://www.svp-lauperswil.ch/aktuell/termine/abstimmungssonntag-29/
TRANSP:OPAQUE
END:VEVENT
END:VCALENDAR
