BEGIN:VCALENDAR
VERSION:2.0
PRODID:-//Ortspartei SVP Lauperswil //NONSGML Events //EN
CALSCALE:GREGORIAN
X-WR-CALNAME:Ortspartei SVP Lauperswil
BEGIN:VEVENT
CREATED:20251203T101330Z
UID:1104
DTEND:20261129T000000
DTSTART:20261129T000000
DTSTAMP:20260421T104203Z
LOCATION:
DESCRIPTION:
SUMMARY:Abstimmungssonntag
ORGANIZER:
URL;VALUE=URI:https://www.svp-lauperswil.ch/aktuell/termine/abstimmungssonntag-27/
TRANSP:OPAQUE
END:VEVENT
END:VCALENDAR
